BEGIN:VCALENDAR
VERSION:2.0
PRODID:-// - ECPv6.15.11//NONSGML v1.0//EN
CALSCALE:GREGORIAN
METHOD:PUBLISH
X-ORIGINAL-URL:https://nychealthcarecoalition.org
X-WR-CALDESC:Events for 
REFRESH-INTERVAL;VALUE=DURATION:PT1H
X-Robots-Tag:noindex
X-PUBLISHED-TTL:PT1H
BEGIN:VTIMEZONE
TZID:UTC
BEGIN:STANDARD
TZOFFSETFROM:+0000
TZOFFSETTO:+0000
TZNAME:UTC
DTSTART:20230101T000000
END:STANDARD
END:VTIMEZONE
BEGIN:VEVENT
DTSTART;TZID=UTC:20241206T100000
DTEND;TZID=UTC:20241206T110000
DTSTAMP:20260424T180503
CREATED:20241126T195321Z
LAST-MODIFIED:20241126T195321Z
UID:254-1733479200-1733482800@nychealthcarecoalition.org
SUMMARY:TRUST Training Informational Session
DESCRIPTION:HANYS and GNYHA are hosting an informational session during which OMH will discuss its upcoming specialized training to address aggressive and other difficult behaviors in Article 28 and Article 31 hospitals across the state. \nTherapeutic Relationships and Universal Safety Training provides a consistent framework for creating a facility-wide therapeutic milieu in which all staff members can be confident their interactions with individuals in care will contribute to their active improvement. TRUST consists of practices that have been shown to enhance patient and staff safety in hospitals. The program provides staff with the competence and skills necessary to prevent and manage crisis situations and incorporates previous OMH training. \nThis webinar is part of HANYS’ Preventing and managing violence in the healthcare setting series.
URL:https://nychealthcarecoalition.org/event/trust-training-informational-session/
LOCATION:NY
END:VEVENT
END:VCALENDAR