BEGIN:VCALENDAR
VERSION:2.0
PRODID:-// - ECPv6.15.11//NONSGML v1.0//EN
CALSCALE:GREGORIAN
METHOD:PUBLISH
X-ORIGINAL-URL:https://nychealthcarecoalition.org
X-WR-CALDESC:Events for 
REFRESH-INTERVAL;VALUE=DURATION:PT1H
X-Robots-Tag:noindex
X-PUBLISHED-TTL:PT1H
BEGIN:VTIMEZONE
TZID:America/New_York
BEGIN:DAYLIGHT
TZOFFSETFROM:-0500
TZOFFSETTO:-0400
TZNAME:EDT
DTSTART:20240310T070000
END:DAYLIGHT
BEGIN:STANDARD
TZOFFSETFROM:-0400
TZOFFSETTO:-0500
TZNAME:EST
DTSTART:20241103T060000
END:STANDARD
BEGIN:DAYLIGHT
TZOFFSETFROM:-0500
TZOFFSETTO:-0400
TZNAME:EDT
DTSTART:20250309T070000
END:DAYLIGHT
BEGIN:STANDARD
TZOFFSETFROM:-0400
TZOFFSETTO:-0500
TZNAME:EST
DTSTART:20251102T060000
END:STANDARD
BEGIN:DAYLIGHT
TZOFFSETFROM:-0500
TZOFFSETTO:-0400
TZNAME:EDT
DTSTART:20260308T070000
END:DAYLIGHT
BEGIN:STANDARD
TZOFFSETFROM:-0400
TZOFFSETTO:-0500
TZNAME:EST
DTSTART:20261101T060000
END:STANDARD
END:VTIMEZONE
BEGIN:VEVENT
DTSTART;TZID=America/New_York:20250325T100000
DTEND;TZID=America/New_York:20250325T130000
DTSTAMP:20260424T113133
CREATED:20241206T034923Z
LAST-MODIFIED:20241206T035035Z
UID:394-1742896800-1742907600@nychealthcarecoalition.org
SUMMARY:NYC Health Care Coalition Meeting #3
DESCRIPTION:Please join us for the third coalition meeting of the year\, co-hosted by the Borough of Queens Emergency Preparedness Coalition (BQEPC).
URL:https://nychealthcarecoalition.org/event/nyc-health-care-coalition-meeting-3/
LOCATION:CUNY School of Law\, 2 Court Square W\, Long Island City\, NY\, 11101\, United States
ATTACH;FMTTYPE=image/jpeg:https://nychealthcarecoalition.org/wp-content/uploads/2024/11/CUNY-Law-Image.jpg
END:VEVENT
END:VCALENDAR