BEGIN:VCALENDAR
VERSION:2.0
PRODID:-// - ECPv6.15.11//NONSGML v1.0//EN
CALSCALE:GREGORIAN
METHOD:PUBLISH
X-ORIGINAL-URL:https://nychealthcarecoalition.org
X-WR-CALDESC:Events for 
REFRESH-INTERVAL;VALUE=DURATION:PT1H
X-Robots-Tag:noindex
X-PUBLISHED-TTL:PT1H
BEGIN:VTIMEZONE
TZID:America/New_York
BEGIN:DAYLIGHT
TZOFFSETFROM:-0500
TZOFFSETTO:-0400
TZNAME:EDT
DTSTART:20240310T070000
END:DAYLIGHT
BEGIN:STANDARD
TZOFFSETFROM:-0400
TZOFFSETTO:-0500
TZNAME:EST
DTSTART:20241103T060000
END:STANDARD
BEGIN:DAYLIGHT
TZOFFSETFROM:-0500
TZOFFSETTO:-0400
TZNAME:EDT
DTSTART:20250309T070000
END:DAYLIGHT
BEGIN:STANDARD
TZOFFSETFROM:-0400
TZOFFSETTO:-0500
TZNAME:EST
DTSTART:20251102T060000
END:STANDARD
BEGIN:DAYLIGHT
TZOFFSETFROM:-0500
TZOFFSETTO:-0400
TZNAME:EDT
DTSTART:20260308T070000
END:DAYLIGHT
BEGIN:STANDARD
TZOFFSETFROM:-0400
TZOFFSETTO:-0500
TZNAME:EST
DTSTART:20261101T060000
END:STANDARD
END:VTIMEZONE
BEGIN:VEVENT
DTSTART;TZID=America/New_York:20250402T130000
DTEND;TZID=America/New_York:20250402T150000
DTSTAMP:20260424T093423
CREATED:20250103T001122Z
LAST-MODIFIED:20250227T150557Z
UID:423-1743598800-1743606000@nychealthcarecoalition.org
SUMMARY:HCA\, HPCANYS & HCP Home Care and Hospice Emergency Preparedness Forum #2
DESCRIPTION:Join us for a FREE virtual Home Care and Hospice Emergency Preparedness Forum. The Home Care Association of New York State (HCA)\, the Hospice and Palliative Care Association of New York State (HPCANYS) and the New York State Association of Health Care Providers (HCP) are conducting this Forum as part of a series of activities funded by a grant from the Administration for Strategic Preparedness and Response (ASPR)\, and administered by the New York City Department of Health and Mental Hygiene (NYC DOHMH) Office of Emergency Preparedness and Response (OEPR). \nThe forum will feature a panel of subject matter experts in the field of cybersecurity and will focus on awareness\, risk mitigation strategies\, emergency and incident response planning\, recovery strategies and upcoming regulatory changes specific to the home care and hospice sectors. Resources for prevention and managing cyber security issues will also be provided. \nPanelists: \n\nTimothy Lambie\, CISSP\, HCISPP\, FBI Cybersecurity Supervisory Special Agent\nJustin Bain CISSP\, HCISPP\, VP Information Security Officer VNS Health NY\nDennis Ast\, CPCU\, CCIC\, Senior Account Executive/Cyber Risk Specialist OneGroup\nDennis O’Connell\, Director of Security Solutions at Custom Computer Specialists\nCrystal Wilson\, CISA Cyber State Coordinator Region 2\n\nAl Cardillo\, President and CEO\, HCA\, Eva Cohen\, Director of Regulatory and Community Affairs\, HPCANYS\, Carole Deyoe\, RPh\, Director of Regulatory Affairs and Special Programs\, HCP\, and Rebecca Gray\, Executive Vice President for Clinical and Program Affairs\, HCA\, will also provide brief updates on current topics in emergency management affecting home care\, hospice and community-based services providers. \nThe Forum gives home care and hospice providers in attendance the opportunity to share their comments\, questions or concerns on any Emergency Management Preparedness issues that face their agencies. Your participation in the open discussion helps prioritize and shape future emergency management programming. \nDOWNLOAD THE FLYER  \nRegistration link: https://us02web.zoom.us/meeting/register/0FF-ul7QRGaHfSmO7rpJnw#/registration
URL:https://nychealthcarecoalition.org/event/hca-hcp-hpcanys-nyc-ep-forum-2/
LOCATION:NY
CATEGORIES:Home Care,Hospice,Palliative Care
ATTACH;FMTTYPE=image/png:https://nychealthcarecoalition.org/wp-content/uploads/2025/01/April-2nd-Webinar-Header.png
END:VEVENT
END:VCALENDAR