BEGIN:VCALENDAR
VERSION:2.0
PRODID:-// - ECPv6.15.11//NONSGML v1.0//EN
CALSCALE:GREGORIAN
METHOD:PUBLISH
X-ORIGINAL-URL:https://nychealthcarecoalition.org
X-WR-CALDESC:Events for 
REFRESH-INTERVAL;VALUE=DURATION:PT1H
X-Robots-Tag:noindex
X-PUBLISHED-TTL:PT1H
BEGIN:VTIMEZONE
TZID:America/New_York
BEGIN:DAYLIGHT
TZOFFSETFROM:-0500
TZOFFSETTO:-0400
TZNAME:EDT
DTSTART:20240310T070000
END:DAYLIGHT
BEGIN:STANDARD
TZOFFSETFROM:-0400
TZOFFSETTO:-0500
TZNAME:EST
DTSTART:20241103T060000
END:STANDARD
BEGIN:DAYLIGHT
TZOFFSETFROM:-0500
TZOFFSETTO:-0400
TZNAME:EDT
DTSTART:20250309T070000
END:DAYLIGHT
BEGIN:STANDARD
TZOFFSETFROM:-0400
TZOFFSETTO:-0500
TZNAME:EST
DTSTART:20251102T060000
END:STANDARD
BEGIN:DAYLIGHT
TZOFFSETFROM:-0500
TZOFFSETTO:-0400
TZNAME:EDT
DTSTART:20260308T070000
END:DAYLIGHT
BEGIN:STANDARD
TZOFFSETFROM:-0400
TZOFFSETTO:-0500
TZNAME:EST
DTSTART:20261101T060000
END:STANDARD
END:VTIMEZONE
BEGIN:VEVENT
DTSTART;TZID=America/New_York:20250414T100000
DTEND;TZID=America/New_York:20250414T150000
DTSTAMP:20260424T093601
CREATED:20250318T193616Z
LAST-MODIFIED:20250318T193616Z
UID:565-1744624800-1744642800@nychealthcarecoalition.org
SUMMARY:Youth-Led Emergency Preparedness Education Day
DESCRIPTION:Youth-Led Emergency Preparedness Education Day \nThe event will include comprehensive training on emergency preparedness\, featuring: \n\nActive Violence Emergency Response Training – covering Stop the Bleed\, situational awareness\, and effective response strategies.\nA collaborative session with NYC Emergency Management (NYCEM) to educate on assembling an emergency to-go bag and planning a basic emergency response at home.\n\nCommunity Impact\nYouth involvement in emergency preparedness not only increases overall community readiness but also ensures faster and more organized responses in emergencies—especially within schools and community centers. By empowering 100 students with these skills\, we contribute to a more resilient and prepared community. \nLogistics & Collaborations \n\nEvent Coordination: Emergency Preparedness at SUNY Downstate will handle all logistics\, including flyer design\, registration management\, and provision of food and refreshments.\nPartnerships: Offices of Government Affairs\, Volunteer Services\, and University Police to assist with safety protocols and on-site registration during the event.\nHosting Commitment: We are fully committed to hosting this event and ensuring a successful\, impactful day that meets DOHMH’s community outreach deliverable.\n\nSee the event FLYER
URL:https://nychealthcarecoalition.org/event/youth-led-emergency-preparedness-education-day/
LOCATION:SUNY Downstate Health Sciences University\, 395 Lenox Rd.\, Brooklyn\, NY\, 11203\, United States
ATTACH;FMTTYPE=image/png:https://nychealthcarecoalition.org/wp-content/uploads/2025/03/Youth-Led-EP-Ed-Day-Header.png
END:VEVENT
END:VCALENDAR