BEGIN:VCALENDAR
VERSION:2.0
PRODID:-// - ECPv6.15.11//NONSGML v1.0//EN
CALSCALE:GREGORIAN
METHOD:PUBLISH
X-ORIGINAL-URL:https://nychealthcarecoalition.org
X-WR-CALDESC:Events for 
REFRESH-INTERVAL;VALUE=DURATION:PT1H
X-Robots-Tag:noindex
X-PUBLISHED-TTL:PT1H
BEGIN:VTIMEZONE
TZID:America/New_York
BEGIN:DAYLIGHT
TZOFFSETFROM:-0500
TZOFFSETTO:-0400
TZNAME:EDT
DTSTART:20240310T070000
END:DAYLIGHT
BEGIN:STANDARD
TZOFFSETFROM:-0400
TZOFFSETTO:-0500
TZNAME:EST
DTSTART:20241103T060000
END:STANDARD
BEGIN:DAYLIGHT
TZOFFSETFROM:-0500
TZOFFSETTO:-0400
TZNAME:EDT
DTSTART:20250309T070000
END:DAYLIGHT
BEGIN:STANDARD
TZOFFSETFROM:-0400
TZOFFSETTO:-0500
TZNAME:EST
DTSTART:20251102T060000
END:STANDARD
BEGIN:DAYLIGHT
TZOFFSETFROM:-0500
TZOFFSETTO:-0400
TZNAME:EDT
DTSTART:20260308T070000
END:DAYLIGHT
BEGIN:STANDARD
TZOFFSETFROM:-0400
TZOFFSETTO:-0500
TZNAME:EST
DTSTART:20261101T060000
END:STANDARD
END:VTIMEZONE
BEGIN:VEVENT
DTSTART;TZID=America/New_York:20250617T133000
DTEND;TZID=America/New_York:20250617T180000
DTSTAMP:20260424T062048
CREATED:20250604T160657Z
LAST-MODIFIED:20250604T160805Z
UID:672-1750167000-1750183200@nychealthcarecoalition.org
SUMMARY:Dr. Michael Frogel Memorial Pediatric Disaster Preparedness Conference
DESCRIPTION:The next NYC Pediatric Disaster Coalition webinar will be a half day virtual conference in memory of our beloved colleague PDC Co-Principal Investigator Dr. Michael Frogel who passed away last year. This web based conference will be conducted on Tuesday\, June 17th (1:30pm EST – 6:00pm EST) via Zoom. \nWe have four highly distinguished speakers: \nDr. Mark X. Cicero – Pediatric Disaster Readiness: Federal\, State\, and Local Partners Collaborating in Axles\, Hubs and Spokes\nMerritt D. Schreiber\, Ph.D. – Toward the Way Forward in Pediatric Disaster Mental Health\nDr. Jennifer Anders – The Pediatric Hospital Bed Crisis and Management During Surge\nDr. Matthew Harris – The Building Blocks of a Pediatric MCI Guideline \nFor more information including speaker bios and presentation descriptions click here: https://www.programinfosite.com/pediatricdisastercoalition/registration/ \nTo register for the webinar click here: https://www.programinfosite.com/pediatricdisastercoalition/webinar-registration/ \nNote: If you register you will receive a calendar invitation from me in the near future and you should receive a conformation email after registering.
URL:https://nychealthcarecoalition.org/event/dr-michael-frogel-memorial-pediatric-disaster-preparedness-conference/
LOCATION:NY
ATTACH;FMTTYPE=image/png:https://nychealthcarecoalition.org/wp-content/uploads/2024/11/PDC-Banner-1.png
END:VEVENT
END:VCALENDAR