BEGIN:VCALENDAR
VERSION:2.0
PRODID:-// - ECPv6.15.11//NONSGML v1.0//EN
CALSCALE:GREGORIAN
METHOD:PUBLISH
X-ORIGINAL-URL:https://nychealthcarecoalition.org
X-WR-CALDESC:Events for 
REFRESH-INTERVAL;VALUE=DURATION:PT1H
X-Robots-Tag:noindex
X-PUBLISHED-TTL:PT1H
BEGIN:VTIMEZONE
TZID:America/New_York
BEGIN:DAYLIGHT
TZOFFSETFROM:-0500
TZOFFSETTO:-0400
TZNAME:EDT
DTSTART:20240310T070000
END:DAYLIGHT
BEGIN:STANDARD
TZOFFSETFROM:-0400
TZOFFSETTO:-0500
TZNAME:EST
DTSTART:20241103T060000
END:STANDARD
BEGIN:DAYLIGHT
TZOFFSETFROM:-0500
TZOFFSETTO:-0400
TZNAME:EDT
DTSTART:20250309T070000
END:DAYLIGHT
BEGIN:STANDARD
TZOFFSETFROM:-0400
TZOFFSETTO:-0500
TZNAME:EST
DTSTART:20251102T060000
END:STANDARD
BEGIN:DAYLIGHT
TZOFFSETFROM:-0500
TZOFFSETTO:-0400
TZNAME:EDT
DTSTART:20260308T070000
END:DAYLIGHT
BEGIN:STANDARD
TZOFFSETFROM:-0400
TZOFFSETTO:-0500
TZNAME:EST
DTSTART:20261101T060000
END:STANDARD
END:VTIMEZONE
BEGIN:VEVENT
DTSTART;TZID=America/New_York:20250625T100000
DTEND;TZID=America/New_York:20250625T154500
DTSTAMP:20260424T062223
CREATED:20250612T194939Z
LAST-MODIFIED:20250612T194939Z
UID:676-1750845600-1750866300@nychealthcarecoalition.org
SUMMARY:Statewide Summit on Addressing Sepsis Across the Continuum
DESCRIPTION:This summit is being graciously hosted by the Albany College of Pharmacy and Health Sciences (ACPHS) in Albany\, NY. Partnering to coordinate are ACPHS\, the Home Care Association of NYS (HCANYS)\, Sepsis Alliance\, END SEPSIS\, IPRO\, the Healthcare Association of New York State (HANYS)\, Statewide Senior Action Council – and additional organizations who are joining us daily. As in these prior collaborative sepsis summits\, we invite you to join in partnering\, co-sponsoring/co-endorsing\, and participating in this critical summit. \nFor more information or to register- VISIT THE WEBSITE
URL:https://nychealthcarecoalition.org/event/statewide-summit-on-addressing-sepsis-across-the-continuum/
LOCATION:Albany College of Pharmacy and Health Sciences – Gozzo Student Center\, 41 Union Drive\, Albany\, NY\, 12208\, United States
ATTACH;FMTTYPE=image/png:https://nychealthcarecoalition.org/wp-content/uploads/2025/06/Sepsis-Summit-Header-and-Support-Block-Image.png
END:VEVENT
END:VCALENDAR