BEGIN:VCALENDAR
VERSION:2.0
PRODID:-// - ECPv6.15.11//NONSGML v1.0//EN
CALSCALE:GREGORIAN
METHOD:PUBLISH
X-ORIGINAL-URL:https://nychealthcarecoalition.org
X-WR-CALDESC:Events for 
REFRESH-INTERVAL;VALUE=DURATION:PT1H
X-Robots-Tag:noindex
X-PUBLISHED-TTL:PT1H
BEGIN:VTIMEZONE
TZID:America/New_York
BEGIN:DAYLIGHT
TZOFFSETFROM:-0500
TZOFFSETTO:-0400
TZNAME:EDT
DTSTART:20240310T070000
END:DAYLIGHT
BEGIN:STANDARD
TZOFFSETFROM:-0400
TZOFFSETTO:-0500
TZNAME:EST
DTSTART:20241103T060000
END:STANDARD
BEGIN:DAYLIGHT
TZOFFSETFROM:-0500
TZOFFSETTO:-0400
TZNAME:EDT
DTSTART:20250309T070000
END:DAYLIGHT
BEGIN:STANDARD
TZOFFSETFROM:-0400
TZOFFSETTO:-0500
TZNAME:EST
DTSTART:20251102T060000
END:STANDARD
BEGIN:DAYLIGHT
TZOFFSETFROM:-0500
TZOFFSETTO:-0400
TZNAME:EDT
DTSTART:20260308T070000
END:DAYLIGHT
BEGIN:STANDARD
TZOFFSETFROM:-0400
TZOFFSETTO:-0500
TZNAME:EST
DTSTART:20261101T060000
END:STANDARD
END:VTIMEZONE
BEGIN:VEVENT
DTSTART;TZID=America/New_York:20250906T100000
DTEND;TZID=America/New_York:20250906T160000
DTSTAMP:20260424T015459
CREATED:20250825T145844Z
LAST-MODIFIED:20250825T145844Z
UID:713-1757152800-1757174400@nychealthcarecoalition.org
SUMMARY:4th Annual Community Healthy Lifestyle Fair
DESCRIPTION:This is a FREE community event\, sponsored by Physicians of University Hospital at Downstate (UHD) and Residency Program Coordinators Forum in collaboration with the Offices of Graduate Medical Education\, Government & Community Relations\, Strategic Planning and the Diversity Equity Inclusion House Staff Council. Disclaimer: Some screenings will require you to present your insurance card(s). \nRegistration is not required\, but those that would like to volunteer at the event can register here: https://www.downstate.edu/about/community-impact/health-wellness/events/health-fair/index.html \nEVENT FLYER
URL:https://nychealthcarecoalition.org/event/4th-annual-community-healthy-lifestyle-fair/
LOCATION:University Hospital at SUNY Downstate\, 445 Lenox Rd\, Brooklyn\, 11203
ATTACH;FMTTYPE=image/png:https://nychealthcarecoalition.org/wp-content/uploads/2025/08/Community-Healthy-Lifestyle-Fair.png
END:VEVENT
END:VCALENDAR