BEGIN:VCALENDAR
VERSION:2.0
PRODID:-// - ECPv6.15.11//NONSGML v1.0//EN
CALSCALE:GREGORIAN
METHOD:PUBLISH
X-ORIGINAL-URL:https://nychealthcarecoalition.org
X-WR-CALDESC:Events for 
REFRESH-INTERVAL;VALUE=DURATION:PT1H
X-Robots-Tag:noindex
X-PUBLISHED-TTL:PT1H
BEGIN:VTIMEZONE
TZID:America/New_York
BEGIN:DAYLIGHT
TZOFFSETFROM:-0500
TZOFFSETTO:-0400
TZNAME:EDT
DTSTART:20240310T070000
END:DAYLIGHT
BEGIN:STANDARD
TZOFFSETFROM:-0400
TZOFFSETTO:-0500
TZNAME:EST
DTSTART:20241103T060000
END:STANDARD
BEGIN:DAYLIGHT
TZOFFSETFROM:-0500
TZOFFSETTO:-0400
TZNAME:EDT
DTSTART:20250309T070000
END:DAYLIGHT
BEGIN:STANDARD
TZOFFSETFROM:-0400
TZOFFSETTO:-0500
TZNAME:EST
DTSTART:20251102T060000
END:STANDARD
BEGIN:DAYLIGHT
TZOFFSETFROM:-0500
TZOFFSETTO:-0400
TZNAME:EDT
DTSTART:20260308T070000
END:DAYLIGHT
BEGIN:STANDARD
TZOFFSETFROM:-0400
TZOFFSETTO:-0500
TZNAME:EST
DTSTART:20261101T060000
END:STANDARD
END:VTIMEZONE
BEGIN:VEVENT
DTSTART;TZID=America/New_York:20250909T080000
DTEND;TZID=America/New_York:20250909T123000
DTSTAMP:20260424T015551
CREATED:20250728T143245Z
LAST-MODIFIED:20250728T143245Z
UID:698-1757404800-1757421000@nychealthcarecoalition.org
SUMMARY:The Annual Bill Lane Social Work Disaster Response Conference: Understanding and Healing Trauma Through the Lens of Conflict\, Culture and Joy
DESCRIPTION:The Annual Bill Lane Social Work Disaster Response Conference: Understanding and Healing Trauma Through the Lens of Conflict\, Culture and Joy  \nBEPC would like to invite you to the Annual Bill Lane Social Work Disaster Response Conference at Jacobi on 9/9/25.This year we will be discussing intergenerational trauma and infusing joy into work. One of our presenters has previously presented her work in Africa and our other speaker is a dynamic speaker who teaches us about the healing effects of joy. We have applied for continuing education credits (3) for licensed social workers. \nThis Conference will take the place of a BEPC meeting and we invite you all to stay afterwards for lunch. When you RSVP\, please let Marni Confino know if you can stay for lunch. \nRegistration\nTo register\, please email Marni.Confino@nychhc.org\, or call 718-918-5832.
URL:https://nychealthcarecoalition.org/event/the-annual-bill-lane-social-work-disaster-response-conference-understanding-and-healing-trauma-through-the-lens-of-conflict-culture-and-joy/
LOCATION:NYC Health + Hospitals/Jacobi\, Building 4\, Second floor Conference Center\, 1400 Pelham Parkway South\, Bronx\, NY\, 10461\, United States
ATTACH;FMTTYPE=image/jpeg:https://nychealthcarecoalition.org/wp-content/uploads/2024/12/NYC-HH-Jacobi.jpg
END:VEVENT
END:VCALENDAR