BEGIN:VCALENDAR
VERSION:2.0
PRODID:-// - ECPv6.15.11//NONSGML v1.0//EN
CALSCALE:GREGORIAN
METHOD:PUBLISH
X-ORIGINAL-URL:https://nychealthcarecoalition.org
X-WR-CALDESC:Events for 
REFRESH-INTERVAL;VALUE=DURATION:PT1H
X-Robots-Tag:noindex
X-PUBLISHED-TTL:PT1H
BEGIN:VTIMEZONE
TZID:America/New_York
BEGIN:DAYLIGHT
TZOFFSETFROM:-0500
TZOFFSETTO:-0400
TZNAME:EDT
DTSTART:20240310T070000
END:DAYLIGHT
BEGIN:STANDARD
TZOFFSETFROM:-0400
TZOFFSETTO:-0500
TZNAME:EST
DTSTART:20241103T060000
END:STANDARD
BEGIN:DAYLIGHT
TZOFFSETFROM:-0500
TZOFFSETTO:-0400
TZNAME:EDT
DTSTART:20250309T070000
END:DAYLIGHT
BEGIN:STANDARD
TZOFFSETFROM:-0400
TZOFFSETTO:-0500
TZNAME:EST
DTSTART:20251102T060000
END:STANDARD
BEGIN:DAYLIGHT
TZOFFSETFROM:-0500
TZOFFSETTO:-0400
TZNAME:EDT
DTSTART:20260308T070000
END:DAYLIGHT
BEGIN:STANDARD
TZOFFSETFROM:-0400
TZOFFSETTO:-0500
TZNAME:EST
DTSTART:20261101T060000
END:STANDARD
END:VTIMEZONE
BEGIN:VEVENT
DTSTART;TZID=America/New_York:20250929T100000
DTEND;TZID=America/New_York:20250929T160000
DTSTAMP:20260424T002233
CREATED:20250922T154249Z
LAST-MODIFIED:20250922T154317Z
UID:736-1759140000-1759161600@nychealthcarecoalition.org
SUMMARY:University Hospital at Downstate 1st Annual Staff Education Day
DESCRIPTION:University Hospital at Downstate 1st Annual Staff Education Day \nIn recognition of National Preparedness Month this September\, we will be hosting an all-day\, interactive Emergency Management event for staff. The goal is to strengthen preparedness knowledge and hands-on skills while aligning with Joint Commission standards around staff training and emergency readiness.
URL:https://nychealthcarecoalition.org/event/university-hospital-at-downstate-1st-annual-staff-education-day/
LOCATION:PHAB ABC Conference room\, 450 Clarkson Avenue\, Brooklyn\, NY\, 11203\, United States
ATTACH;FMTTYPE=image/png:https://nychealthcarecoalition.org/wp-content/uploads/2025/09/SUNY-9-29-Event.png
END:VEVENT
BEGIN:VEVENT
DTSTART;TZID=America/New_York:20250929T110000
DTEND;TZID=America/New_York:20250929T123000
DTSTAMP:20260424T002233
CREATED:20250910T191802Z
LAST-MODIFIED:20250910T191802Z
UID:733-1759143600-1759149000@nychealthcarecoalition.org
SUMMARY:2025 - 2026 North HELP Coalition Kickoff Meeting
DESCRIPTION:2025 – 2026 North HELP Coalition Kickoff Meeting \nDate: Monday\, 9/29/2025\, 11:00 AM – 12:30 PM\nLocation: Virtual (Zoom)
URL:https://nychealthcarecoalition.org/event/2025-2026-north-help-coalition-kickoff-meeting/
LOCATION:NY
ATTACH;FMTTYPE=image/png:https://nychealthcarecoalition.org/wp-content/uploads/2024/11/North-Help-no-back.png
END:VEVENT
END:VCALENDAR