BEGIN:VCALENDAR
VERSION:2.0
PRODID:-// - ECPv6.15.11//NONSGML v1.0//EN
CALSCALE:GREGORIAN
METHOD:PUBLISH
X-ORIGINAL-URL:https://nychealthcarecoalition.org
X-WR-CALDESC:Events for 
REFRESH-INTERVAL;VALUE=DURATION:PT1H
X-Robots-Tag:noindex
X-PUBLISHED-TTL:PT1H
BEGIN:VTIMEZONE
TZID:America/New_York
BEGIN:DAYLIGHT
TZOFFSETFROM:-0500
TZOFFSETTO:-0400
TZNAME:EDT
DTSTART:20240310T070000
END:DAYLIGHT
BEGIN:STANDARD
TZOFFSETFROM:-0400
TZOFFSETTO:-0500
TZNAME:EST
DTSTART:20241103T060000
END:STANDARD
BEGIN:DAYLIGHT
TZOFFSETFROM:-0500
TZOFFSETTO:-0400
TZNAME:EDT
DTSTART:20250309T070000
END:DAYLIGHT
BEGIN:STANDARD
TZOFFSETFROM:-0400
TZOFFSETTO:-0500
TZNAME:EST
DTSTART:20251102T060000
END:STANDARD
BEGIN:DAYLIGHT
TZOFFSETFROM:-0500
TZOFFSETTO:-0400
TZNAME:EDT
DTSTART:20260308T070000
END:DAYLIGHT
BEGIN:STANDARD
TZOFFSETFROM:-0400
TZOFFSETTO:-0500
TZNAME:EST
DTSTART:20261101T060000
END:STANDARD
END:VTIMEZONE
BEGIN:VEVENT
DTSTART;TZID=America/New_York:20251209T120000
DTEND;TZID=America/New_York:20251209T140000
DTSTAMP:20260423T211829
CREATED:20251120T153610Z
LAST-MODIFIED:20251120T153651Z
UID:799-1765281600-1765288800@nychealthcarecoalition.org
SUMMARY:Introduction to New York City Emergency Management’s (NYCEM) Community Engagement Bureau - Integration with the Home Care and Hospice Sectors
DESCRIPTION:Join us for a FREE virtual Home Care and Hospice Emergency Preparedness Forum. The Home Care Association of New York State (HCANYS)\, the Hospice and Palliative Care Association of New York State (HPCANYS) and the New York State Association of Health Care Providers (HCP) are conducting this Forum as part of a series of activities funded by a grant from the Administration for Strategic Preparedness and Response (ASPR)\, and administered by the New York City Department of Health and Mental Hygiene (NYC DOHMH) Office of Emergency Preparedness and Response (OEPR).  \nNew York City Emergency Management (NYCEM) is integral part of emergency and incident response planning and recovery in New York City. This forum will focus on three programs within NYCEM’s Bureau of Community Engagement; Community Preparedness\, the Community Emergency Response Team (CERT) and Ready New York.  \nAngel Luis Perez\, Community Engagement Specialist\, NYCEM\, and his colleagues will explain the roles and responsibilities of the Community Engagement Bureau and how integration with home care and hospice providers in New York City can benefit communities\, neighborhoods\, and the individuals receiving care at home in New York City.  \nEva Cohen\, Director of Regulatory and Community Affairs\, HPCANYS\, Carole Deyoe\, RPh\, Director of Regulatory Affairs and Special Programs\, HCP\, and Al Cardillo\, President/CEO\, with Kiernan Gorton\, Associate Director of Research and Development\, both from HCA\, will also provide brief updates on current topics in emergency management affecting home care\, hospice and community-based services providers.  \nThe Forum gives home care and hospice providers in attendance the opportunity to share their comments\, questions\, or concerns on any Emergency Management Preparedness issues that face their agencies. Your participation in the open discussion following the presentations will help prioritize and shape future emergency management programming.
URL:https://nychealthcarecoalition.org/event/introduction-to-new-york-city-emergency-managements-nycem-community-engagement-bureau-integration-with-the-home-care-and-hospice-sectors/
LOCATION:NY
ATTACH;FMTTYPE=image/jpeg:https://nychealthcarecoalition.org/wp-content/uploads/2025/11/ef25183a-2adc-4885-92a2-d305ae27f2a3.jpg
END:VEVENT
END:VCALENDAR