BEGIN:VCALENDAR
VERSION:2.0
PRODID:-// - ECPv6.15.11//NONSGML v1.0//EN
CALSCALE:GREGORIAN
METHOD:PUBLISH
X-ORIGINAL-URL:https://nychealthcarecoalition.org
X-WR-CALDESC:Events for 
REFRESH-INTERVAL;VALUE=DURATION:PT1H
X-Robots-Tag:noindex
X-PUBLISHED-TTL:PT1H
BEGIN:VTIMEZONE
TZID:America/New_York
BEGIN:DAYLIGHT
TZOFFSETFROM:-0500
TZOFFSETTO:-0400
TZNAME:EDT
DTSTART:20250309T070000
END:DAYLIGHT
BEGIN:STANDARD
TZOFFSETFROM:-0400
TZOFFSETTO:-0500
TZNAME:EST
DTSTART:20251102T060000
END:STANDARD
BEGIN:DAYLIGHT
TZOFFSETFROM:-0500
TZOFFSETTO:-0400
TZNAME:EDT
DTSTART:20260308T070000
END:DAYLIGHT
BEGIN:STANDARD
TZOFFSETFROM:-0400
TZOFFSETTO:-0500
TZNAME:EST
DTSTART:20261101T060000
END:STANDARD
BEGIN:DAYLIGHT
TZOFFSETFROM:-0500
TZOFFSETTO:-0400
TZNAME:EDT
DTSTART:20270314T070000
END:DAYLIGHT
BEGIN:STANDARD
TZOFFSETFROM:-0400
TZOFFSETTO:-0500
TZNAME:EST
DTSTART:20271107T060000
END:STANDARD
END:VTIMEZONE
BEGIN:VEVENT
DTSTART;TZID=America/New_York:20260226T180000
DTEND;TZID=America/New_York:20260226T200000
DTSTAMP:20260423T162310
CREATED:20260205T165514Z
LAST-MODIFIED:20260205T165514Z
UID:872-1772128800-1772136000@nychealthcarecoalition.org
SUMMARY:Division of Homeland Security and Emergency Services Citizen Preparedness Corps
DESCRIPTION:Attention NYC Community! \nYou’re invited to a free Emergency Preparedness Class on SUNY Downstate’s campus\, presented in partnership with the Citizen Preparedness Corps and the New York National Guard. Learn essential skills to help you and your family prepare for\, respond to\, and recover from natural or man-made disasters. ​ Gain valuable knowledge on creating a family emergency plan\, stocking up on supplies\, and more. ​ Plus\, each attending family will receive a preparedness kit! ​ \nDon’t miss this opportunity to learn how to protect yourself\, your family\, and your community! ​ \nThursday\, February 26th\n6:00pm\nSUNY Downstate Health Sciences University ​\nAlumni Auditorium\n395 Lenox Rd.\nBrooklyn\, NY 11203 ​
URL:https://nychealthcarecoalition.org/event/division-of-homeland-security-and-emergency-services-citizen-preparedness-corps/
LOCATION:SUNY Downstate Health Sciences University\, 395 Lenox Rd.\, Brooklyn\, NY\, 11203\, United States
ATTACH;FMTTYPE=image/jpeg:https://nychealthcarecoalition.org/wp-content/uploads/2026/02/SUNY-Downstate-HS-Building.jpg
END:VEVENT
END:VCALENDAR