BEGIN:VCALENDAR
VERSION:2.0
PRODID:-// - ECPv6.15.11//NONSGML v1.0//EN
CALSCALE:GREGORIAN
METHOD:PUBLISH
X-ORIGINAL-URL:https://nychealthcarecoalition.org
X-WR-CALDESC:Events for 
REFRESH-INTERVAL;VALUE=DURATION:PT1H
X-Robots-Tag:noindex
X-PUBLISHED-TTL:PT1H
BEGIN:VTIMEZONE
TZID:America/New_York
BEGIN:DAYLIGHT
TZOFFSETFROM:-0500
TZOFFSETTO:-0400
TZNAME:EDT
DTSTART:20250309T070000
END:DAYLIGHT
BEGIN:STANDARD
TZOFFSETFROM:-0400
TZOFFSETTO:-0500
TZNAME:EST
DTSTART:20251102T060000
END:STANDARD
BEGIN:DAYLIGHT
TZOFFSETFROM:-0500
TZOFFSETTO:-0400
TZNAME:EDT
DTSTART:20260308T070000
END:DAYLIGHT
BEGIN:STANDARD
TZOFFSETFROM:-0400
TZOFFSETTO:-0500
TZNAME:EST
DTSTART:20261101T060000
END:STANDARD
BEGIN:DAYLIGHT
TZOFFSETFROM:-0500
TZOFFSETTO:-0400
TZNAME:EDT
DTSTART:20270314T070000
END:DAYLIGHT
BEGIN:STANDARD
TZOFFSETFROM:-0400
TZOFFSETTO:-0500
TZNAME:EST
DTSTART:20271107T060000
END:STANDARD
END:VTIMEZONE
BEGIN:VEVENT
DTSTART;TZID=America/New_York:20260227T130000
DTEND;TZID=America/New_York:20260227T140000
DTSTAMP:20260423T162330
CREATED:20260219T190744Z
LAST-MODIFIED:20260219T190744Z
UID:886-1772197200-1772200800@nychealthcarecoalition.org
SUMMARY:HCANYS Emerging Infectious Diseases\, Novel & High-Risk Infection in the Home & Community Based Services Population: An Overview
DESCRIPTION:This is the first in a sequence of five webinars that will address emerging infectious disease or novel influenza outbreak planning for a home care audience. The focus of this initial webinar is on the identification of these diseases\, such as H5N1 and respiratory tract pathogens (Influenza\, COVID\, RSV) and their associated etiology\, background and key facts\, prevalence\, and implications for the home and community-based services population. \nWhile participants are encouraged to attend the full series\, registration is accepted for individual webinars as well. \nThis and future webinars in this series are offered at no cost through a grant from the Administration of Strategic Preparedness and Response\, administered by the NYC Department of Health and Mental Hygiene (DOHMH) Oﬀice of Emergency Preparedness and Response (OEPR). \nPresenter:\nTeresa Lubowski completed a B.S. degree in Pharmacy at the Albany College of Pharmacy\, a Pharm D. degree at the University of New York at Buffalo and a 2-year research/antibiotic stewardship fellowship in infectious diseases at the Hartford Hospital in Connecticut. Dr. Lubowski has broad professional pharmacy experience including institutional and outpatient antibiotic stewardship\, academic teaching\, research\, and administrative experience\, and extensive work in Quality Improvement. She is the Lead for the Patient Safety Clinical Aim\, Director Quality Improvement and Medication Safety and consultant for the CMS Quality Improvement initiative for IPRO.
URL:https://nychealthcarecoalition.org/event/hcanys-emerging-infectious-diseases-novel-high-risk-infection-in-the-home-community-based-services-population-an-overview/
LOCATION:NY
END:VEVENT
END:VCALENDAR