BEGIN:VCALENDAR
VERSION:2.0
PRODID:-// - ECPv6.15.11//NONSGML v1.0//EN
CALSCALE:GREGORIAN
METHOD:PUBLISH
X-ORIGINAL-URL:https://nychealthcarecoalition.org
X-WR-CALDESC:Events for 
REFRESH-INTERVAL;VALUE=DURATION:PT1H
X-Robots-Tag:noindex
X-PUBLISHED-TTL:PT1H
BEGIN:VTIMEZONE
TZID:America/New_York
BEGIN:DAYLIGHT
TZOFFSETFROM:-0500
TZOFFSETTO:-0400
TZNAME:EDT
DTSTART:20250309T070000
END:DAYLIGHT
BEGIN:STANDARD
TZOFFSETFROM:-0400
TZOFFSETTO:-0500
TZNAME:EST
DTSTART:20251102T060000
END:STANDARD
BEGIN:DAYLIGHT
TZOFFSETFROM:-0500
TZOFFSETTO:-0400
TZNAME:EDT
DTSTART:20260308T070000
END:DAYLIGHT
BEGIN:STANDARD
TZOFFSETFROM:-0400
TZOFFSETTO:-0500
TZNAME:EST
DTSTART:20261101T060000
END:STANDARD
BEGIN:DAYLIGHT
TZOFFSETFROM:-0500
TZOFFSETTO:-0400
TZNAME:EDT
DTSTART:20270314T070000
END:DAYLIGHT
BEGIN:STANDARD
TZOFFSETFROM:-0400
TZOFFSETTO:-0500
TZNAME:EST
DTSTART:20271107T060000
END:STANDARD
END:VTIMEZONE
BEGIN:VEVENT
DTSTART;TZID=America/New_York:20260304T130000
DTEND;TZID=America/New_York:20260304T140000
DTSTAMP:20260423T161948
CREATED:20260219T190920Z
LAST-MODIFIED:20260219T190920Z
UID:888-1772629200-1772632800@nychealthcarecoalition.org
SUMMARY:NYS Home Care Providers - Utilizing Wearable Duress Applications: An Emergency Management Webinar for NYC Home Care Providers
DESCRIPTION:As determined in the NYC Home Care Emergency Management Assessment Surveys conducted by HCP and HCA in 2021 and 2022 under a grant from NYC DOHMH Emergency Management\, emergency communications are a general area of concern for home care providers. To address that gap\, this session will describe the benefits of wearable duress buttons for home care workers in the field. \nA wearable duress button allows the user to covertly summon help when faced with a dangerous (or potentially dangerous) situation. Carole Deyoe\, Director of Regulatory Affairs and Special Programs at HCP will provide the topic overview.  \nAttendees will hear from subject matter expert Paul Sarnese\, Owner\, Secured & Prepared Consulting. Paul will review the essential features for providers to explore when choosing a wearable duress button system and describe some bonus functionalities that might make a system more cost-effective or useful\, and/or expand its versatility for use in other aspects of your operations. With the benefit of Paul’s expertise\, home care agencies of any size will come away equipped to choose a system based on their needs. \nThe session will include time for Q&A.  \nDon’t miss out on this valuable opportunity. Mark your calendars and register today to secure your spot at this essential event!
URL:https://nychealthcarecoalition.org/event/nys-home-care-providers-utilizing-wearable-duress-applications-an-emergency-management-webinar-for-nyc-home-care-providers/
LOCATION:NY
END:VEVENT
BEGIN:VEVENT
DTSTART;TZID=America/New_York:20260304T140000
DTEND;TZID=America/New_York:20260304T150000
DTSTAMP:20260423T161948
CREATED:20260219T181855Z
LAST-MODIFIED:20260219T182451Z
UID:877-1772632800-1772636400@nychealthcarecoalition.org
SUMMARY:GNYHA CAS/FEPA Training Webinar
DESCRIPTION:GNYHA will host a CAS/FEPA training webinar specific to long-term care facilities on March 4 at 2:00 p.m. The National Association of Long Term Care Administrator Boards will likely approve one hour of continuing education credits for nursing home administrators who attend this meeting.  \nIf you have any questions about the requirements\, materials\, or the webinar\, please reach out to Lisa Fenger.  \n \nBelow are documents related to this project. \nFEPA User Guide 2026 NYC – PDF \n2026 FEPA Required Planning Activities – PDF \nFEPA DAL 2026 – PDF
URL:https://nychealthcarecoalition.org/event/gnyha-cas-fepa-training-webinar/
LOCATION:NY
ATTACH;FMTTYPE=image/png:https://nychealthcarecoalition.org/wp-content/uploads/2024/11/GNYHA-Logo.png
END:VEVENT
END:VCALENDAR