BEGIN:VCALENDAR
VERSION:2.0
PRODID:-// - ECPv6.15.11//NONSGML v1.0//EN
CALSCALE:GREGORIAN
METHOD:PUBLISH
X-ORIGINAL-URL:https://nychealthcarecoalition.org
X-WR-CALDESC:Events for 
REFRESH-INTERVAL;VALUE=DURATION:PT1H
X-Robots-Tag:noindex
X-PUBLISHED-TTL:PT1H
BEGIN:VTIMEZONE
TZID:America/New_York
BEGIN:DAYLIGHT
TZOFFSETFROM:-0500
TZOFFSETTO:-0400
TZNAME:EDT
DTSTART:20250309T070000
END:DAYLIGHT
BEGIN:STANDARD
TZOFFSETFROM:-0400
TZOFFSETTO:-0500
TZNAME:EST
DTSTART:20251102T060000
END:STANDARD
BEGIN:DAYLIGHT
TZOFFSETFROM:-0500
TZOFFSETTO:-0400
TZNAME:EDT
DTSTART:20260308T070000
END:DAYLIGHT
BEGIN:STANDARD
TZOFFSETFROM:-0400
TZOFFSETTO:-0500
TZNAME:EST
DTSTART:20261101T060000
END:STANDARD
BEGIN:DAYLIGHT
TZOFFSETFROM:-0500
TZOFFSETTO:-0400
TZNAME:EDT
DTSTART:20270314T070000
END:DAYLIGHT
BEGIN:STANDARD
TZOFFSETFROM:-0400
TZOFFSETTO:-0500
TZNAME:EST
DTSTART:20271107T060000
END:STANDARD
END:VTIMEZONE
BEGIN:VEVENT
DTSTART;TZID=America/New_York:20260320T110000
DTEND;TZID=America/New_York:20260320T110000
DTSTAMP:20260423T162331
CREATED:20260311T143851Z
LAST-MODIFIED:20260311T143913Z
UID:896-1774004400-1774004400@nychealthcarecoalition.org
SUMMARY:HCANYS Emerging Infectious Disease\, Novel & High-Risk Infection in the Home & Community Based Services Population – Home Care Agency Planning Series
DESCRIPTION:This is the second in a sequence of five webinars that will address emerging infectious diseases or novel influenza outbreak planning for a home care audience. The focus for this one-hour webinar is on the integration of planning into the home care agency’s overall scope\, plans and protocols for infection prevention and control for these and the high risk and prevalent infections in the home and community based services population. The webinar will review plans and procedures to manage novel infectious agents and/or outbreaks in the home care setting with an emphasis on emergency preparedness planning and response for outbreaks\, identifying community relationships and communication. \nDownload the flyer here.
URL:https://nychealthcarecoalition.org/event/hcanys-emerging-infectious-disease-novel-high-risk-infection-in-the-home-community-based-services-population-home-care-agency-planning-series/
LOCATION:NY
ATTACH;FMTTYPE=image/png:https://nychealthcarecoalition.org/wp-content/uploads/2026/03/HCANYS-Logo-Black.png
END:VEVENT
END:VCALENDAR