BEGIN:VCALENDAR
VERSION:2.0
PRODID:-// - ECPv6.15.11//NONSGML v1.0//EN
CALSCALE:GREGORIAN
METHOD:PUBLISH
X-ORIGINAL-URL:https://nychealthcarecoalition.org
X-WR-CALDESC:Events for 
REFRESH-INTERVAL;VALUE=DURATION:PT1H
X-Robots-Tag:noindex
X-PUBLISHED-TTL:PT1H
BEGIN:VTIMEZONE
TZID:America/New_York
BEGIN:DAYLIGHT
TZOFFSETFROM:-0500
TZOFFSETTO:-0400
TZNAME:EDT
DTSTART:20250309T070000
END:DAYLIGHT
BEGIN:STANDARD
TZOFFSETFROM:-0400
TZOFFSETTO:-0500
TZNAME:EST
DTSTART:20251102T060000
END:STANDARD
BEGIN:DAYLIGHT
TZOFFSETFROM:-0500
TZOFFSETTO:-0400
TZNAME:EDT
DTSTART:20260308T070000
END:DAYLIGHT
BEGIN:STANDARD
TZOFFSETFROM:-0400
TZOFFSETTO:-0500
TZNAME:EST
DTSTART:20261101T060000
END:STANDARD
BEGIN:DAYLIGHT
TZOFFSETFROM:-0500
TZOFFSETTO:-0400
TZNAME:EDT
DTSTART:20270314T070000
END:DAYLIGHT
BEGIN:STANDARD
TZOFFSETFROM:-0400
TZOFFSETTO:-0500
TZNAME:EST
DTSTART:20271107T060000
END:STANDARD
END:VTIMEZONE
BEGIN:VEVENT
DTSTART;TZID=America/New_York:20260330T100000
DTEND;TZID=America/New_York:20260330T110000
DTSTAMP:20260423T195311
CREATED:20260311T151403Z
LAST-MODIFIED:20260311T155714Z
UID:901-1774864800-1774868400@nychealthcarecoalition.org
SUMMARY:HPCANYS Best Practices for Emerging Infectious Diseases  - Virtual Panel Discussion
DESCRIPTION:Join hospice and palliative care providers from across the state for an infectious disease best practices panel discussion featuring industry experts.   \nDiscussion Points:  \n\nStaff education and training\nInfection prevention during home visits\nPPE availability in the field\nSymptom identification and reporting\nInfection control policies \n\nThe Hospice and Palliative Care Association of New York State (HPCANYS) is conducting this emergency preparedness presentation as part of a series of activities funded by a grant from the Administration for Strategic Preparedness and Response (ASPR) and administered by the New York City Department of Health and Mental Hygiene (NYC DOHMH)\, Office of Emergency Preparedness and Response (OEPR). Its content is solely the responsibility of the authors and does not necessarily represent the official views of the Department of Health and Human Services’ Administration for Strategic Preparedness and Response.  \nRegistration not required. Download the flyer for more info.
URL:https://nychealthcarecoalition.org/event/hpcanys-best-practices-for-emerging-infectious-diseases-virtual-panel-discussion/
LOCATION:NY
ATTACH;FMTTYPE=image/jpeg:https://nychealthcarecoalition.org/wp-content/uploads/2026/03/HPCANYS-Logo.jpeg
END:VEVENT
BEGIN:VEVENT
DTSTART;TZID=America/New_York:20260401T130000
DTEND;TZID=America/New_York:20260401T140000
DTSTAMP:20260423T195311
CREATED:20260327T133420Z
LAST-MODIFIED:20260327T133607Z
UID:915-1775048400-1775052000@nychealthcarecoalition.org
SUMMARY:Bird Flu & Home Care: Understanding H5N1 Risks in the Community
DESCRIPTION:This session will examine the status of H5N1 and its potential implications for personal care workers traversing New York City to care for patients in their homes. \nHCP is thrilled to have featured speakers Kevin Hynes\, Wildlife Health Program Leader\, from the New York State (NYS) Division of Fish and Wildlife\, and Dr. Eireann Collins\, Emergency Programs Coordinator for the NYS Department of Agriculture and Markets Division of Animal Industry to present this webinar. Their experience and fields of study offer attendees a perspective not typically included in broader public health briefings but one that explores the H5N1 threat through the lens of home and community life. \nDuring this one-hour presentation\, speakers will review transmission risks\, community exposure considerations\, and practical protective measures for home settings. Attendees will gain actionable guidance to strengthen emergency preparedness plans\, safeguard frontline staff\, and communicate effectively with patients about this evolving and unusual threat. \nThis webinar is free to attend but you must reserve your spot today.
URL:https://nychealthcarecoalition.org/event/bird-flu-home-care-understanding-h5n1-risks-in-the-community/
LOCATION:NY
ATTACH;FMTTYPE=image/png:https://nychealthcarecoalition.org/wp-content/uploads/2024/11/HCP-Logo.png
END:VEVENT
BEGIN:VEVENT
DTSTART;TZID=America/New_York:20260407T100000
DTEND;TZID=America/New_York:20260407T160000
DTSTAMP:20260423T195311
CREATED:20260130T215942Z
LAST-MODIFIED:20260130T220051Z
UID:867-1775556000-1775577600@nychealthcarecoalition.org
SUMMARY:NYC Health Care Coalition Annual Emergency Management Conference
DESCRIPTION:Co-hosted with Staten Island Community Organizations Active in Disasters (SICOAD) and The Brooklyn Coalition (TBC)\n\nWhen: Tuesday\, April 7\, 2026\nTime: 10am – 4pm\nWhere: SUNY Downstate Health Sciences University ​\nAlumni Auditorium\n395 Lenox Rd.\nBrooklyn\, NY 11203
URL:https://nychealthcarecoalition.org/event/nyc-health-care-coalition-annual-emergency-management-conference/
LOCATION:SUNY Downstate Health Sciences University\, 395 Lenox Rd.\, Brooklyn\, NY\, 11203\, United States
ATTACH;FMTTYPE=image/png:https://nychealthcarecoalition.org/wp-content/uploads/2026/01/NYC-SICOAD-and-TBC.png
END:VEVENT
BEGIN:VEVENT
DTSTART;TZID=America/New_York:20260408T100000
DTEND;TZID=America/New_York:20260408T150000
DTSTAMP:20260423T195311
CREATED:20260311T152025Z
LAST-MODIFIED:20260311T152025Z
UID:903-1775642400-1775660400@nychealthcarecoalition.org
SUMMARY:2nd Annual Youth-Led Emergency Preparedness Day
DESCRIPTION:Join us for a FREE hands-on training designed for middle & high-school students! Gain the skills to protect yourself and your community in emergencies. \nWhat You’ll Learn:\nActive Violence Immediate Response\nStop the Bleed/Situational Awareness/Escape/Evade/Attack & Defend \nNational Guard/Citizens Corp\nLearn different types of emergencies & how to build an emergency go-bag \nEmergency Planning Basics\nStay ready at home\, school\, and in your neighborhood \nLocation:\nUniversity Hospital at Downstate Alumni Auditorium\n395 Lenox Rd\nBrooklyn\, NY 11203 \nDownload the Flyer
URL:https://nychealthcarecoalition.org/event/2nd-annual-youth-led-emergency-preparedness-day/
LOCATION:SUNY Downstate Health Sciences University\, 395 Lenox Rd.\, Brooklyn\, NY\, 11203\, United States
ATTACH;FMTTYPE=image/jpeg:https://nychealthcarecoalition.org/wp-content/uploads/2026/02/SUNY-Downstate-HS-Building.jpg
END:VEVENT
BEGIN:VEVENT
DTSTART;TZID=America/New_York:20260416T120000
DTEND;TZID=America/New_York:20260416T140000
DTSTAMP:20260423T195311
CREATED:20260325T162718Z
LAST-MODIFIED:20260325T162810Z
UID:910-1776340800-1776348000@nychealthcarecoalition.org
SUMMARY:Home Care and Hospice Emergency Management Spring Forum - Part Two: Response Planning\, and Resilience
DESCRIPTION:Home Care and Hospice Emergency Management Spring Forum Part Two: Response Planning\, and Resilience\nA Collaboration with NYC Emergency Management  \nJoin us for a FREE virtual Home Care and Hospice Emergency Preparedness Forum. The Home Care Association of New York State (HCANYS)\, the Hospice and Palliative Care Association of New York State (HPCANYS) and the New York State Association of Health Care Providers (HCP) are conducting this Forum as part of a series of activities funded by a grant from the Administration for Strategic Preparedness and Response (ASPR)\, and administered by the New York City Department of Health and Mental Hygiene (NYC DOHMH) Office of Emergency Preparedness and Response (OEPR). \nNew York City Emergency Management (NYCEM) is an integral part of emergency and incident response planning and recovery in New York City. This forum will focus on the collaborative work of NYCEM’s Health & Medical Unit with city\, state\, and federal partners\, healthcare associations\, healthcare facilities\, and emergency medical services partners to prepare for and respond to incidents that impact the New York City healthcare sector. \nSam de Lannoy is a Health & Medical Planning Specialist in the Health & Medical Unit at New York City Emergency Management (NYCEM) and serves as an ESF-8 Coordinator in the city’s Emergency Operations Center (EOC). Sam’s portfolio includes Special Medical Needs Shelters\, Burn Surge Protocol\, Closed POD Plan\, and citywide emergency planning and response for health related – incidents. She has a background in public health and earned her Master of Public Health at Boston University School of Public Health. \nEva Cohen\, Director of Regulatory and Community Affairs\, HPCANYS\, Carole Deyoe\, Director of Regulatory Affairs and Special Programs\, HCP\, and Al Cardillo\, President/CEO\, Peter Chernack\, Executive Vice President\, both from HCANYS\, will also provide updates on topics in emergency management affecting home care\, hospice and community-based services providers. \nAttendees will have the opportunity to share comments\, questions or concerns on the Emergency Management Preparedness issues that face their agencies. Your participation in the open discussion following the presentations will help prioritize and shape future emergency management programming. \nDownload the EVENT FLYER
URL:https://nychealthcarecoalition.org/event/home-care-and-hospice-emergency-management-spring-forum/
LOCATION:NY
ATTACH;FMTTYPE=image/png:https://nychealthcarecoalition.org/wp-content/uploads/2026/03/Screenshot-2026-03-25-112624.png
END:VEVENT
BEGIN:VEVENT
DTSTART;TZID=America/New_York:20260429T120000
DTEND;TZID=America/New_York:20260429T130000
DTSTAMP:20260423T195311
CREATED:20260417T204443Z
LAST-MODIFIED:20260417T204443Z
UID:932-1777464000-1777467600@nychealthcarecoalition.org
SUMMARY:NERUCA's Identify\, Isolate\, Inform: H5N1 Avian Flu Preparedness for Urgent Care
DESCRIPTION:Is your urgent care center ready if a patient walks in with symptoms of avian flu? This one-hour preparedness webinar will walk your team through everything you need to know — from recognizing H5N1 risk factors to implementing the right infection control steps in real time. Developed in partnership with the NYC Department of Health and Mental Hygiene (DOHMH) and tailored specifically for the urgent care setting\, this session is the first step in your site’s participation in the NYC H5N1 Mystery Patient Drill program. \nLearning Objectives:\n1. Describe the clinical presentation and epidemiological risk factors associated with Avian Influenza (H5N1) in the urgent care setting.\n2. Apply the Identify\, Isolate\, and Inform (III) framework to triage and manage a patient presenting with symptoms consistent with a novel infectious illness.\n3. Identify key infection control measures — including source control\, appropriate PPE\, and patient isolation protocols — relevant to urgent care operations.\n4. Outline their site’s notification and escalation procedures when a suspected infectious disease case is identified.\n5. Recognize gaps in current preparedness and articulate at least one action step to strengthen their site’s readiness ahead of the Mystery Patient Drill.
URL:https://nychealthcarecoalition.org/event/nerucas-identify-isolate-inform-h5n1-avian-flu-preparedness-for-urgent-care/
LOCATION:NY
ATTACH;FMTTYPE=image/png:https://nychealthcarecoalition.org/wp-content/uploads/2026/04/NERUCA-Logo.png
END:VEVENT
BEGIN:VEVENT
DTSTART;TZID=America/New_York:20260512T090000
DTEND;TZID=America/New_York:20260512T120000
DTSTAMP:20260423T195311
CREATED:20260130T215459Z
LAST-MODIFIED:20260130T215459Z
UID:862-1778576400-1778587200@nychealthcarecoalition.org
SUMMARY:BP2 NYC Healthcare Coalition Meeting #3 co-hosted with the EPCOM
DESCRIPTION:Join us for the third HCC Meeting of BP2! \nCohosted by EPCOM\n\nWhen: Tuesday\, May 12\, 2026\nTime: 9am – 12pm\nWhere: NYU Langone Health\nSmilow Multi-Purpose Room\n550 First Avenue\nNew York\, NY 10016\n(Enter via First Avenue Main Entrance)
URL:https://nychealthcarecoalition.org/event/bp2-nyc-healthcare-coalition-meeting-3-co-hosted-with-the-epcom/
LOCATION:NYU Langone Health\, 550 First Avenue\, New York\, NY\, 10016\, United States
ATTACH;FMTTYPE=image/png:https://nychealthcarecoalition.org/wp-content/uploads/2026/01/NYU-Langone-Tisch.png
END:VEVENT
BEGIN:VEVENT
DTSTART;TZID=America/New_York:20260520T090000
DTEND;TZID=America/New_York:20260520T153000
DTSTAMP:20260423T195311
CREATED:20260415T144855Z
LAST-MODIFIED:20260415T144855Z
UID:925-1779267600-1779291000@nychealthcarecoalition.org
SUMMARY:Stronger Together: Community Action in Times of Crisis Fifth Annual Community Emergency Network Conference
DESCRIPTION:Protect and support your communities in times of crisis! Our free in-person conference will help you network with local preparedness organizations affiliated with the NYC Health Department. \nLearn about: \n\nKey partnerships for situational awareness\nThe intersection of disability justice and mutual aid\nEnvironmental justice programs in NYC\nThe impacts of AI on community readiness\nAnd more!\n\nThis is a free conference. For questions or to request an accommodation\, contact ehuerta@health.nyc.gov at least 72 hours before the conference.
URL:https://nychealthcarecoalition.org/event/stronger-together-community-action-in-times-of-crisis-fifth-annual-community-emergency-network-conference/
LOCATION:NYU Kimmel Center Grand Hall\, 238 Thompson St.\, New York\, NY\, 10012
ATTACH;FMTTYPE=image/png:https://nychealthcarecoalition.org/wp-content/uploads/2026/04/CEN-Banner-1000.png
END:VEVENT
BEGIN:VEVENT
DTSTART;TZID=America/New_York:20260526T100000
DTEND;TZID=America/New_York:20260526T150000
DTSTAMP:20260423T195311
CREATED:20260421T204633Z
LAST-MODIFIED:20260421T210231Z
UID:935-1779789600-1779807600@nychealthcarecoalition.org
SUMMARY:Older Adult Preparedness Workshop
DESCRIPTION:The Brooklyn Coalition is hosting a free\, in-person event for older adults with hands-on training in various scenarios. Featuring how to prepare go bags\, fire safety\, emergency communications\, and disaster preparedness. Lunch is also included! \nSee the flyer at the link below for more details and how to RSVP.
URL:https://nychealthcarecoalition.org/event/older-adult-preparedness-workshop/
LOCATION:SUNY Downstate\, 450 Clarkson Ave\, Brooklyn\, NY\, 11203\, United States
ATTACH;FMTTYPE=image/png:https://nychealthcarecoalition.org/wp-content/uploads/2026/04/Older-Adult-Banner.png
END:VEVENT
END:VCALENDAR