BEGIN:VCALENDAR
VERSION:2.0
PRODID:-// - ECPv6.15.11//NONSGML v1.0//EN
CALSCALE:GREGORIAN
METHOD:PUBLISH
X-ORIGINAL-URL:https://nychealthcarecoalition.org
X-WR-CALDESC:Events for 
REFRESH-INTERVAL;VALUE=DURATION:PT1H
X-Robots-Tag:noindex
X-PUBLISHED-TTL:PT1H
BEGIN:VTIMEZONE
TZID:America/New_York
BEGIN:DAYLIGHT
TZOFFSETFROM:-0500
TZOFFSETTO:-0400
TZNAME:EDT
DTSTART:20230312T070000
END:DAYLIGHT
BEGIN:STANDARD
TZOFFSETFROM:-0400
TZOFFSETTO:-0500
TZNAME:EST
DTSTART:20231105T060000
END:STANDARD
BEGIN:DAYLIGHT
TZOFFSETFROM:-0500
TZOFFSETTO:-0400
TZNAME:EDT
DTSTART:20240310T070000
END:DAYLIGHT
BEGIN:STANDARD
TZOFFSETFROM:-0400
TZOFFSETTO:-0500
TZNAME:EST
DTSTART:20241103T060000
END:STANDARD
BEGIN:DAYLIGHT
TZOFFSETFROM:-0500
TZOFFSETTO:-0400
TZNAME:EDT
DTSTART:20250309T070000
END:DAYLIGHT
BEGIN:STANDARD
TZOFFSETFROM:-0400
TZOFFSETTO:-0500
TZNAME:EST
DTSTART:20251102T060000
END:STANDARD
END:VTIMEZONE
BEGIN:VEVENT
DTSTART;TZID=America/New_York:20241203T100000
DTEND;TZID=America/New_York:20241203T120000
DTSTAMP:20260424T102602
CREATED:20241126T212835Z
LAST-MODIFIED:20241126T215310Z
UID:324-1733220000-1733227200@nychealthcarecoalition.org
SUMMARY:Home Care and Hospice: Essential Partners in Emergency Planning
DESCRIPTION:The two-hour Forum will include a brief association presentation explaining how home care and hospice providers are essential partners in emergency planning and response. The Forum gives home care providers in attendance the opportunity to share their comments\, questions or concerns on any Emergency Preparedness issues that face their agencies. Your participation in the open discussion helps priori􀦞ze and shape future emergency management programming. This is also a unique opportunity for our Coalition partners to hear directly from the home care and hospice industry about their needs and how providers can partner with other sectors in an emergency. \nMore Information Here\nSee the Agenda
URL:https://nychealthcarecoalition.org/event/home-care-and-hospice-essential-partners-in-emergency-planning/
LOCATION:NY
CATEGORIES:Home Care,Hospice,Webinar
ATTACH;FMTTYPE=image/jpeg:https://nychealthcarecoalition.org/wp-content/uploads/2024/11/ae3dacaf-0b8c-44ce-a7d6-372a41bbbf78.jpg
END:VEVENT
END:VCALENDAR