BEGIN:VCALENDAR
VERSION:2.0
PRODID:-// - ECPv6.15.11//NONSGML v1.0//EN
CALSCALE:GREGORIAN
METHOD:PUBLISH
X-ORIGINAL-URL:https://nychealthcarecoalition.org
X-WR-CALDESC:Events for 
REFRESH-INTERVAL;VALUE=DURATION:PT1H
X-Robots-Tag:noindex
X-PUBLISHED-TTL:PT1H
BEGIN:VTIMEZONE
TZID:America/New_York
BEGIN:DAYLIGHT
TZOFFSETFROM:-0500
TZOFFSETTO:-0400
TZNAME:EDT
DTSTART:20240310T070000
END:DAYLIGHT
BEGIN:STANDARD
TZOFFSETFROM:-0400
TZOFFSETTO:-0500
TZNAME:EST
DTSTART:20241103T060000
END:STANDARD
BEGIN:DAYLIGHT
TZOFFSETFROM:-0500
TZOFFSETTO:-0400
TZNAME:EDT
DTSTART:20250309T070000
END:DAYLIGHT
BEGIN:STANDARD
TZOFFSETFROM:-0400
TZOFFSETTO:-0500
TZNAME:EST
DTSTART:20251102T060000
END:STANDARD
BEGIN:DAYLIGHT
TZOFFSETFROM:-0500
TZOFFSETTO:-0400
TZNAME:EDT
DTSTART:20260308T070000
END:DAYLIGHT
BEGIN:STANDARD
TZOFFSETFROM:-0400
TZOFFSETTO:-0500
TZNAME:EST
DTSTART:20261101T060000
END:STANDARD
END:VTIMEZONE
BEGIN:VEVENT
DTSTART;TZID=America/New_York:20250107T100000
DTEND;TZID=America/New_York:20250107T130000
DTSTAMP:20260424T134136
CREATED:20241126T215938Z
LAST-MODIFIED:20241205T033522Z
UID:333-1736244000-1736254800@nychealthcarecoalition.org
SUMMARY:NYC Health Care Coalition Meeting #1
DESCRIPTION:Join us for the first meeting of BP1 co-hosted by the Staten Island COAD!
URL:https://nychealthcarecoalition.org/event/nyc-health-care-coalition-meeting-1/
LOCATION:CUNY School of Law\, 2 Court Square W\, Long Island City\, NY\, 11101\, United States
CATEGORIES:Independent Hospitals,Network Hospitals,NYC DOHMH
ATTACH;FMTTYPE=image/jpeg:https://nychealthcarecoalition.org/wp-content/uploads/2024/11/CUNY-Law-Image.jpg
END:VEVENT
BEGIN:VEVENT
DTSTART;TZID=America/New_York:20250123T103000
DTEND;TZID=America/New_York:20250123T120000
DTSTAMP:20260424T134136
CREATED:20250116T012916Z
LAST-MODIFIED:20250116T013930Z
UID:435-1737628200-1737633600@nychealthcarecoalition.org
SUMMARY:EPCC: Healthcare Ready & NYC Pandemic Response Institute
DESCRIPTION:GNYHA will host an Emergency Preparedness Coordinating Council (EPCC) meeting on January 23. Healthcare Ready\, a not-for profit organization\, will discuss its mission and how hospitals can leverage its services during emergencies. Additionally\, the New York City Pandemic Response Institute will detail the development of the Region 2 Center for Public Health Emergency Preparedness and Response. \nWe encourage members to attend in-person to see a demonstration from Carecubes\, a technology developed to deploy modular isolation solutions. The demonstration will occur at the conclusion of the EPCC presentations. Lunch will be served. \nEvent is hybrid in-person and via Zoom. See the registration link for more details.
URL:https://nychealthcarecoalition.org/event/epcc-healthcare-ready-nyc-pandemic-response-institute/
LOCATION:GNYHA Board Room\, 555 West 57th Street\, 15th Floor\, New York\, NY\, 10019\, United States
ATTACH;FMTTYPE=image/png:https://nychealthcarecoalition.org/wp-content/uploads/2025/01/GNYHA.png
END:VEVENT
END:VCALENDAR