BEGIN:VCALENDAR
VERSION:2.0
PRODID:-// - ECPv6.15.11//NONSGML v1.0//EN
CALSCALE:GREGORIAN
METHOD:PUBLISH
X-ORIGINAL-URL:https://nychealthcarecoalition.org
X-WR-CALDESC:Events for 
REFRESH-INTERVAL;VALUE=DURATION:PT1H
X-Robots-Tag:noindex
X-PUBLISHED-TTL:PT1H
BEGIN:VTIMEZONE
TZID:America/New_York
BEGIN:DAYLIGHT
TZOFFSETFROM:-0500
TZOFFSETTO:-0400
TZNAME:EDT
DTSTART:20240310T070000
END:DAYLIGHT
BEGIN:STANDARD
TZOFFSETFROM:-0400
TZOFFSETTO:-0500
TZNAME:EST
DTSTART:20241103T060000
END:STANDARD
BEGIN:DAYLIGHT
TZOFFSETFROM:-0500
TZOFFSETTO:-0400
TZNAME:EDT
DTSTART:20250309T070000
END:DAYLIGHT
BEGIN:STANDARD
TZOFFSETFROM:-0400
TZOFFSETTO:-0500
TZNAME:EST
DTSTART:20251102T060000
END:STANDARD
BEGIN:DAYLIGHT
TZOFFSETFROM:-0500
TZOFFSETTO:-0400
TZNAME:EDT
DTSTART:20260308T070000
END:DAYLIGHT
BEGIN:STANDARD
TZOFFSETFROM:-0400
TZOFFSETTO:-0500
TZNAME:EST
DTSTART:20261101T060000
END:STANDARD
END:VTIMEZONE
BEGIN:VEVENT
DTSTART;TZID=America/New_York:20250507T120000
DTEND;TZID=America/New_York:20250507T160000
DTSTAMP:20260424T062232
CREATED:20250415T145709Z
LAST-MODIFIED:20250415T145709Z
UID:627-1746619200-1746633600@nychealthcarecoalition.org
SUMMARY:North HELP Coalition Annual Preparedness Conference
DESCRIPTION:Please join the North HELP Coalition at the 2024-2025 Annual Preparedness Conference!\nTopic: Extreme Heat \nVirtual Conference via Zoom.  \nRegistration Link: https://forms.office.com/r/RdDxZhHMRX
URL:https://nychealthcarecoalition.org/event/north-help-coalition-annual-preparedness-conference/
LOCATION:NY
ATTACH;FMTTYPE=image/png:https://nychealthcarecoalition.org/wp-content/uploads/2024/11/North-Help-no-back.png
END:VEVENT
BEGIN:VEVENT
DTSTART;TZID=America/New_York:20250513T090000
DTEND;TZID=America/New_York:20250513T120000
DTSTAMP:20260424T062232
CREATED:20241231T005959Z
LAST-MODIFIED:20241231T005959Z
UID:419-1747126800-1747137600@nychealthcarecoalition.org
SUMMARY:Home Care Association of New York State Tabletop Exercise
DESCRIPTION:Information coming soon!
URL:https://nychealthcarecoalition.org/event/home-care-association-of-new-york-state-tabletop-exercise/
LOCATION:UJA Federation of NYC\, 130 E 59th Street\, New York\, NY\, 10022\, United States
CATEGORIES:Community Health,Home Care,Independent Hospitals,Network Hospitals,Nursing Homes,Urgent Care
ATTACH;FMTTYPE=image/jpeg:https://nychealthcarecoalition.org/wp-content/uploads/2024/12/UJA-Federation-of-NY-Headquarters-130-East-59th-Street-1.jpg
END:VEVENT
BEGIN:VEVENT
DTSTART;TZID=America/New_York:20250514T120000
DTEND;TZID=America/New_York:20250514T130000
DTSTAMP:20260424T062232
CREATED:20250429T191753Z
LAST-MODIFIED:20250429T191753Z
UID:654-1747224000-1747227600@nychealthcarecoalition.org
SUMMARY:NYCHCC Educational Series- Session 2
DESCRIPTION:We invite you to join us for the second session on Wednesday\, May 14th\, from 12:00 to 1:00 PM. The presentation will be led by the Deputy Chief of Emergency Management at the Metropolitan Transit Authority (MTA)\, who is eager to share valuable insights into emergency management operations and highlight the significant work being done. This session presents an excellent opportunity to explore the interconnectedness of our efforts and the critical role of collaboration during crises. Following the presentation\, a dedicated Q&A session will allow attendees to actively participate\, pose questions and share perspectives to foster a collaborative learning environment and insightful discussions. Please refer to the calendar invite forwarded for the link to join virtually via Microsoft Teams. I look forward to another insightful session and thank you again for your continued commitment to collaborative emergency preparedness. \nPlease note: if you have any questions\, please follow up with me directly via email swilliams15@health.nyc.gov \nTeam Meeting Link
URL:https://nychealthcarecoalition.org/event/nychcc-educational-series-session-2/
LOCATION:NY
CATEGORIES:Community Health,Home Care,Hospice,Independent Hospitals,Network Hospitals,Nursing Homes,Pharmacy,Urgent Care
END:VEVENT
BEGIN:VEVENT
DTSTART;TZID=America/New_York:20250515T100000
DTEND;TZID=America/New_York:20250515T170000
DTSTAMP:20260424T062232
CREATED:20250409T140526Z
LAST-MODIFIED:20250409T140526Z
UID:620-1747303200-1747328400@nychealthcarecoalition.org
SUMMARY:Mental Health & Wellness for Emergency Responders Symposium
DESCRIPTION:The Borough of Queens Emergency Preparedness Coalition and the Regional EMS Council of NYC Inc. are proud to present the Mental Health & Wellness for Emergency Responders Symposium. Join us for a day of learning and support tailored for those who dedicate their lives to saving others. This in-person event will be held at the LaGuardia Marriott\, where experts in the field will share valuable insights and strategies to promote mental well-being in high-stress environments. Featuring Keynote Speaker Matthew Giacopelli and a panel discussion led by John Fleischmann\, don’t miss this opportunity to connect with fellow first responders and prioritize your mental health. \nWhat to Expect at the Symposium: \n\nPeer Support & Coping Mechanisms\nStrategies for Stress Management\nRecognizing Signs of Burnout\nExpert Panel with Mental Health Professionals & EMS Providers\n\nAdmission is free and open to all responders! \nRegister:  https://www.eventbrite.com/e/mental-health-wellness-for-emergency-responders-symposium-tickets-1299919888379?aff=oddtdtcreator
URL:https://nychealthcarecoalition.org/event/mental-health-wellness-for-emergency-responders-symposium/
LOCATION:LaGuardia Marriott\, 102-05 Ditmars Blvd\, East Elmhurst\, NY\, 11369\, United States
ATTACH;FMTTYPE=image/png:https://nychealthcarecoalition.org/wp-content/uploads/2025/04/MH-Symposium-Header.png
END:VEVENT
BEGIN:VEVENT
DTSTART;TZID=America/New_York:20250520T100000
DTEND;TZID=America/New_York:20250520T160000
DTSTAMP:20260424T062232
CREATED:20250214T000212Z
LAST-MODIFIED:20250305T151638Z
UID:511-1747735200-1747756800@nychealthcarecoalition.org
SUMMARY:NYC HCC Annual Emergency Management Conference
DESCRIPTION:NYC Heath Care Coalition Annual Emergency Management Conference\ncohosted by the Emergency Preparedness Coalition of Manhattan (EPCOM) and The Brooklyn Coalition (TBC). \nLocation:\nNYU Langone Health\n7th Floor Kimmel Pavilion\n430 E 34th St\nNew York\, NY 10016 \nAgenda coming soon!
URL:https://nychealthcarecoalition.org/event/nyc-hcc-annual-emergency-management-conference/
LOCATION:NYU Langone Kimmel Pavilion\, 430 E 34th St\, New York\, NY\, 10016\, United States
ATTACH;FMTTYPE=image/jpeg:https://nychealthcarecoalition.org/wp-content/uploads/2025/02/kimmel-pavilion-exterior.jpg
END:VEVENT
END:VCALENDAR