BEGIN:VCALENDAR
VERSION:2.0
PRODID:-// - ECPv6.15.11//NONSGML v1.0//EN
CALSCALE:GREGORIAN
METHOD:PUBLISH
X-ORIGINAL-URL:https://nychealthcarecoalition.org
X-WR-CALDESC:Events for 
REFRESH-INTERVAL;VALUE=DURATION:PT1H
X-Robots-Tag:noindex
X-PUBLISHED-TTL:PT1H
BEGIN:VTIMEZONE
TZID:America/New_York
BEGIN:DAYLIGHT
TZOFFSETFROM:-0500
TZOFFSETTO:-0400
TZNAME:EDT
DTSTART:20240310T070000
END:DAYLIGHT
BEGIN:STANDARD
TZOFFSETFROM:-0400
TZOFFSETTO:-0500
TZNAME:EST
DTSTART:20241103T060000
END:STANDARD
BEGIN:DAYLIGHT
TZOFFSETFROM:-0500
TZOFFSETTO:-0400
TZNAME:EDT
DTSTART:20250309T070000
END:DAYLIGHT
BEGIN:STANDARD
TZOFFSETFROM:-0400
TZOFFSETTO:-0500
TZNAME:EST
DTSTART:20251102T060000
END:STANDARD
BEGIN:DAYLIGHT
TZOFFSETFROM:-0500
TZOFFSETTO:-0400
TZNAME:EDT
DTSTART:20260308T070000
END:DAYLIGHT
BEGIN:STANDARD
TZOFFSETFROM:-0400
TZOFFSETTO:-0500
TZNAME:EST
DTSTART:20261101T060000
END:STANDARD
END:VTIMEZONE
BEGIN:VEVENT
DTSTART;TZID=America/New_York:20251023T093000
DTEND;TZID=America/New_York:20251023T123000
DTSTAMP:20260423T224519
CREATED:20251014T134914Z
LAST-MODIFIED:20251014T135034Z
UID:786-1761211800-1761222600@nychealthcarecoalition.org
SUMMARY:Non-Acute Care Coalition Kick Off Meeting Registration
DESCRIPTION:The New York State Department of Health (DOH) Metropolitan Area Regional Office (MARO) will host a virtual meeting on October 23 to introduce staff and highlight a new emergency preparedness initiative for non-acute health care organizations\, including GNYHA continuing care members. \nThe initiative is designed to strengthen readiness\, preparedness and response capabilities among non-acute care facilities and regional partners across the MARO area\, including New York City\, Long Island\, and the Lower Hudson Valley. \nSusan Miller\, DOH-MARO’s new Regional Long-Term Care Preparedness Planner\, will host the event and discuss trainings\, exercises\, technical assistance\, and best practices to build and enhance preparedness in the MARO region. GNYHA’s Lisa Fenger will give introductory remarks. The program will also highlight a case study of a recent assisted living facility evacuation and provide an eFINDS training session. \nPlease contact Lisa Fenger with any questions about the program.
URL:https://nychealthcarecoalition.org/event/non-acute-care-coalition-kick-off-meeting-registration/
LOCATION:NY
END:VEVENT
BEGIN:VEVENT
DTSTART;TZID=America/New_York:20251023T100000
DTEND;TZID=America/New_York:20251023T113000
DTSTAMP:20260423T224519
CREATED:20251014T134510Z
LAST-MODIFIED:20251014T134510Z
UID:784-1761213600-1761219000@nychealthcarecoalition.org
SUMMARY:GNYHA Emergency Preparedness Coordinating Council (EPCC): Stony Brook MCI Full-Scale Exercise and GNYHA Updates
DESCRIPTION:GNYHA will host a virtual Emergency Preparedness Coordinating Council (EPCC) meeting on October 23 at 10:00 a.m. Stony Brook University Hospital and Stony Brook Medicine will discuss its recent mass casualty incident (MCI) full-scale exercise\, including planning\, execution\, and lessons learned. The GNYHA Emergency Preparedness team will also provide emergency preparedness program updates and discuss future programming. \nA unique participation link will be e-mailed to you upon registration. Please register individually to receive meeting materials. \nPlease contact Andrew Dahl\, Lisa Fenger\, or Nicole Ziogas with any questions about the program and Arlene Bowman with any registration questions.
URL:https://nychealthcarecoalition.org/event/gnyha-emergency-preparedness-coordinating-council-epcc-stony-brook-mci-full-scale-exercise-and-gnyha-updates/
LOCATION:NY
ATTACH;FMTTYPE=image/png:https://nychealthcarecoalition.org/wp-content/uploads/2024/11/GNYHA-Logo.png
END:VEVENT
BEGIN:VEVENT
DTSTART;TZID=America/New_York:20251030T083000
DTEND;TZID=America/New_York:20251030T153000
DTSTAMP:20260423T224519
CREATED:20250827T141011Z
LAST-MODIFIED:20250827T141200Z
UID:718-1761813000-1761838200@nychealthcarecoalition.org
SUMMARY:Nonprofit Staten Island Annual Nonprofit Conference
DESCRIPTION:This year\, Nonprofit Staten Island marks a major milestone – 20 years of serving\, supporting\, and strengthening Staten Island’s nonprofit sector. Our Annual Conference is the only event of its kind dedicated entirely to advancing the borough’s nonprofit workforce and infrastructure. \nJoin us as we reflect on how far we’ve come together\, embrace and address new challenges\, and fuel the future of our sector. With reimagined programming\, powerful sessions\, and a vibrant community of leaders\, Rooted & Rising is about showing up for our missions\, our teams\, and our communities.
URL:https://nychealthcarecoalition.org/event/nonprofit-staten-island-annual-nonprofit-conference/
LOCATION:Hilton Garden Inn Staten Island\, 1100 South Ave\, Staten Island\, NY\, 10314\, United States
ATTACH;FMTTYPE=image/png:https://nychealthcarecoalition.org/wp-content/uploads/2025/08/NSI-Rooted-Logo.png
END:VEVENT
END:VCALENDAR