BEGIN:VCALENDAR
VERSION:2.0
PRODID:-// - ECPv6.15.11//NONSGML v1.0//EN
CALSCALE:GREGORIAN
METHOD:PUBLISH
X-ORIGINAL-URL:https://nychealthcarecoalition.org
X-WR-CALDESC:Events for 
REFRESH-INTERVAL;VALUE=DURATION:PT1H
X-Robots-Tag:noindex
X-PUBLISHED-TTL:PT1H
BEGIN:VTIMEZONE
TZID:America/New_York
BEGIN:DAYLIGHT
TZOFFSETFROM:-0500
TZOFFSETTO:-0400
TZNAME:EDT
DTSTART:20240310T070000
END:DAYLIGHT
BEGIN:STANDARD
TZOFFSETFROM:-0400
TZOFFSETTO:-0500
TZNAME:EST
DTSTART:20241103T060000
END:STANDARD
BEGIN:DAYLIGHT
TZOFFSETFROM:-0500
TZOFFSETTO:-0400
TZNAME:EDT
DTSTART:20250309T070000
END:DAYLIGHT
BEGIN:STANDARD
TZOFFSETFROM:-0400
TZOFFSETTO:-0500
TZNAME:EST
DTSTART:20251102T060000
END:STANDARD
BEGIN:DAYLIGHT
TZOFFSETFROM:-0500
TZOFFSETTO:-0400
TZNAME:EDT
DTSTART:20260308T070000
END:DAYLIGHT
BEGIN:STANDARD
TZOFFSETFROM:-0400
TZOFFSETTO:-0500
TZNAME:EST
DTSTART:20261101T060000
END:STANDARD
END:VTIMEZONE
BEGIN:VEVENT
DTSTART;TZID=America/New_York:20251105T140000
DTEND;TZID=America/New_York:20251105T153000
DTSTAMP:20260423T211759
CREATED:20251027T155340Z
LAST-MODIFIED:20251027T155425Z
UID:791-1762351200-1762356600@nychealthcarecoalition.org
SUMMARY:LTC-DPC: Long Term Care Facility Evacuation During the January 2025 Los Angeles Wildfires
DESCRIPTION:GNYHA will host a Long-Term Care Disaster Preparedness Council (LTC-DPC) meeting on November 5 at 2:00 p.m. The meeting will be offered virtually and in-person at the GNYHA offices. Presenters from the California Association of Health Facilities\, HumanGood Senior Living Facilities\, Los Angeles County Emergency Medical Services Agency\, and Global Readiness Partners will discuss the decision-making and coordination processes and challenges during a large-scale urgent evacuation based on experiences during the recent Los Angeles wildfires. The GNYHA Emergency Preparedness team will also provide emergency preparedness program updates and discuss future continuing care programming. \nThe National Association of Long-Term Care Administrator Boards will likely approve approximately two hours of continuing education credits for nursing home administrators who attend this meeting. Please note that the meeting will not be recorded. \nA unique participation link will be e-mailed to you upon registration. Please register individually to receive meeting materials. \nPlease contact Lisa Fenger with any questions about the program and Arlene Bowman with any registration questions.
URL:https://nychealthcarecoalition.org/event/ltc-dpc-long-term-care-facility-evacuation-during-the-january-2025-los-angeles-wildfires/
LOCATION:GNYHA Board Room\, 555 West 57th Street\, 15th Floor\, New York\, NY\, 10019\, United States
ATTACH;FMTTYPE=image/png:https://nychealthcarecoalition.org/wp-content/uploads/2024/11/GNYHA-Logo.png
END:VEVENT
END:VCALENDAR